Workbook
Name DUGNAD: '2024'!$A$1
Name DUGNAD: '2023'!$C$1

Sheet 2026
A1: DUGNAD MIL 2026 | B1: MIL | C1: 2026
A2: Dato | B2: Spesifisert uke/dag | C2: Type | D2: Ansvarlig | E2: Hvem - dugnadsarbeidere | F2: Beskrivelse | G2: Kommentar
A3: Februar | B3: uke 35 | C3: RT-Cup | D3: Sportslig Utvalg Fotball | E3: Fotball (Alle) | F3: Danner komite | G3: Komite bør være etablert og ha som mål å ha første planleggingsmøte innen utgangen av Februar.
A4: Februar | C4: Strandamila | D4: Karina Ur | E4: Strandamilkomiteen | G4: Komite bør være etablert og ha som mål å ha første planleggingsmøte innen utgangen av Februar
A5: Februar | C5: Fotballskole | D5: Sportslig Utvalg Fotball | F5: Danner komite | G5: Planlegger fotballskole
A6: Mars | C6: Kiosk A-lag herrer | D6: Sportslig Utvalg Fotball | E6: G12 | G6: Lager kioskoppsett og setter opp kioskarbeidere for sesong + holde orden i kiosk
A7: Mars | C7: Kiosk A-lag kvinner | D7: Sportslig Utvalg Fotball | E7: J15
A8: April | C8: Anleggsdugnad - ute | D8: Daglig leder/Steinar Hjorteland | E8: Fotball Damelag | F8: Male utstyrsgarasjen ect. | G8: ALLE som har mulighet stiller på forespørsel, vi ønsker å ta vare på anlegget vårt.
A9: April | C9: Anleggsdugnad - ute | D9: Daglig leder/Steinar Hjorteland | E9: Fotball G9/J9 | F9: Male utstyrsgarasjen ect.
A10: April | C10: Anleggsdugnad - ute | D10: Daglig leder/Steinar Hjorteland | E10: Fotball G7/J7 | F10: Male utstyrsgarasjen ect.
A11: April | C11: Anleggsdugnad - ute | D11: Daglig leder/Steinar Hjorteland | E11: Fotball G10/J10 | F11: Male utstyrsgarasjen ect.
A12: April | C12: Anleggsdugnad - ute | D12: Daglig leder/Steinar Hjorteland | E12: Fotball G13 | F12: Male utstyrsgarasjen ect.
A13: April | B13: 46127 | C13: Loddsalg | D13: Økonomiansvarlig/daglig leder | E13: Alle | F13: 1 loddbok per medlem
A14: Mai | B14: 30/04-01/05 | C14: Strandamila | D14: Midhat Syed | E14: Håndball (Alle) | F14: Arbeidsoppgaver både 30. april og 1. mai (rydd, kiosk, stadion) | G14: Eget skriv med detaljer
A15: Mai | C15: Strandamila | D15: Karina Ur | E15: Allidrett (Alle) | F15: Kakebaking | G15: Antall kommuniseres via kommiteen
A16: Mai | C16: Strandamila | D16: Karina Ur | E16: Fotball (Alle) | F16: Drikkestasjoner/Løypevakter/rigg | G16: Eget skriv med detaljer
A17: Juni | B17: Uke 26 | C17: Fotballskole | D17: Sportslig Utvalg Fotball | E17: Alle utendørs (fotball) | F17: Sportslig utvalg Rekrutterer instruktører | G17: Instruktører planlegger og utfører fotballskole. ALLE lag må bidra med vester, kjegler og fotballer
A18: Juni | B18: 46200 | C18: Preikestolen backyard ultra | D18: Sportslig Utvalg Fotball | E18: Volleyball | F18: Drikkestasjoner/Løypevakter | G18: Eget skriv med detaljer
A19: Juni | B19: 46200 | C19: Preikestolen backyard ultra | D19: Sportslig Utvalg Fotball | E19: MIL håndball senior | F19: Drikkestasjoner/Løypevakter | G19: Eget skriv med detaljer
A20: Juni | B20: 46200 | C20: Preikestolen backyard ultra | D20: Sportslig Utvalg Fotball | E20: Fotball B-lag herrer | F20: Drikkestasjoner/Løypevakter | G20: Eget skriv med detaljer
A21: Juni | B21: 46200 | C21: Preikestolen backyard ultra | D21: Sportslig Utvalg Fotball | E21: Badminton
A22: Juli | C22: Danacup | D22: Sportslig Utvalg Fotball (ungdomsledere) | E22: Det eldste laget som deltar danner en komité | F22: Samkjører påmelding og event. | G22: Eller annen alternativ cup
A23: August | C23: Lyngdalcup | D23: Sportslig utvalg fotball (barneledere) | E23: Det eldste laget som deltar danner en komité | F23: Samkjører påmelding og event for neste år. | G23: Eller annen alternativ cup
A24: August | B24: uke 35 | C24: RT-Cup | D24: RT- cup komite | E24: Fotball A-lag herrer | F24: Sekretariat, premieutdeling
A25: August | C25: RT-Cup | D25: RT- cup komite | E25: Fotball G15 | F25: 4 parkeringsvakter, aktiviteter (fotballtarget ect.)
A26: August | C26: RT-Cup | D26: RT- cup komite | E26: Fotball Old Boys | F26: Rigging dagen før
A27: August | C27: RT-Cup | D27: Dommeransvarlig | E27: Fotball G14/J14 | F27: Dommere
A28: August | C28: RT-Cup | D28: RT- cup komite | E28: Fotball J12/J13 | F28: Kiosk, 1 foresatt + 2 barn (x 3 grupper á 2 timer)
A29: August | C29: RT-Cup | D29: RT- cup komite | E29: Fotball alle lag 6-11 år | F29: valgfri langpannekake eller annet, nedrigg + bidra med fotballer, kjegler og vester
A30: August | C30: Aktivitetsserie | D30: Midhat Syed | E30: Barnehåndball avdeling | F30: Rigging, rydding, kiosk salg og dommere
A31: Oktober | C31: TV-aksjonen | D31: Daglig leder | E31: Fotball G8/J8 | F31: 11 bøssebærere og 1 rodeleder
A32: Høst | B32: Hvert 2.år (neste 2027) | C32: Ryfylkemesse | D32: Sportslig utvalg fotball (ungdomsleder) | E32: Fotball juniorlag | F32: Hvert 2. år
A33: Høst | B33: Hvert 2. år (neste 2027) | C33: Ryfylkemesse | D33: Sportslig utvalg fotball (ungdomsleder) | F33: 10 voksne og 5 ungdommer
A34: Høst | B34: Hvert 2. år (neste 2027) | C34: Ryfylkemesse | D34: Sportslig utvalg fotball (ungdomsleder) | F34: Rigging, parkeringsvakter, rydding

Sheet 2025
A1: DUGNAD MIL 2024 | B1: MIL | C1: 2025
A2: Dato | B2: Spesifisert klokke/dag | C2: Type | D2: Ansvarlig | E2: Hvem - dugnadsarbeidere | F2: Beskrivelse | G2: Kommentar
A3: Februar | C3: RT-Cup | D3: Sportslig Utvalg Fotball | E3: Fotball G9/J9 | F3: Danner komite | G3: Komite bør være etablert og ha som mål å ha første planleggingsmøte innen utgangen av Februar.
A4: Februar | C4: Strandamila | D4: Beate Langeland | E4: Strandamilkomiteen | G4: Komite bør være etablert og ha som mål å ha første planleggingsmøte innen utgangen av Februar
A5: Februar | C5: Fotballskole | D5: Sportslig Utvalg Fotball | G5: Danner komite
A6: April | C6: Anleggsdugnad - ute | D6: Daglig leder/Steinar Hjorteland | E6: Alle utendørs (fotball) | F6: Utendørs anlegg | G6: 2 voksne personer fra hvert lag som stiller på dugnaden
A7: April | C7: Anleggsdugnad - inne | D7: Daglig leder/Tau Campus | E7: Alle innendørs (håndball + allidrett) | F7: Tau Aktivitetshus/ I samarbeid med Tau Campus | G7: Tid kan variere, men MIL bør årlig rydde og sjekke lager etc.
A8: Mai | B8: 30/04-01/05 | C8: Strandamila | D8: Midhat Syed | E8: Håndball (Alle) | F8: Arbeidsoppgaver både 30. april og 1. mai (rygg, rydd, kiosk, stadion) | G8: Eget skriv med detaljer
A9: Mai | C9: Strandamila | D9: Strandamilkomiteen | E9: Allidrett (Alle) | F9: Kakebaking | G9: Antall kommuniseres via kommiteen
A10: Mai | C10: Strandamila | D10: Karina Ur | E10: Fotball (Alle) | F10: Drikkestasjoner/Løypevakter | G10: Eget skriv med detaljer
A11: Mai | C11: Strandamila | D11: Strandamilkomiteen | E11: Fotball Damelag | F11: Drikkestasjoner/Løypevakter | G11: Eget skriv med detaljer
A12: Mai | C12: Strandamila | D12: Strandamilkomiteen | E12: Fotball B-lag herrer | F12: Drikkestasjoner/Løypevakter | G12: Eget skriv med detaljer
A13: Mai | C13: Strandamila | D13: Strandamilkomiteen | E13: Fotball G7/J7 | F13: Drikkestasjoner/Løypevakter | G13: Eget skriv med detaljer
A14: Mai | C14: Strandamila | D14: Strandamilkomiteen | E14: Fotball G10 | F14: Drikkestasjoner/Løypevakter | G14: Eget skriv med detaljer
A15: Mai | C15: Strandamila | D15: Strandamilkomiteen | E15: Fotball J15/J16 | F15: Drikkestasjoner/Løypevakter | G15: Eget skriv med detaljer
A16: Juni | B16: Uke 26 | C16: Fotballskole | D16: Sportslig Utvalg Fotball | E16: Sportslig Utvalg Fotball | F16: Sportslig utvalg Rekrutterer instruktører | G16: Instruktører planlegger og utfører fotballskole
A17: Juli | C17: Danacup | D17: Sportslig Utvalg Fotball (ungdomsledere) | E17: Det eldste laget som deltar danner en komité | F17: Samkjører påmelding og event. | G17: Eller annen alternativ cup
A18: August | C18: Lyngdalcup | D18: Sportslig utvalg fotball (barneledere) | E18: Det eldste laget som deltar danner en komité | F18: Samkjører påmelding og event for neste år. | G18: Eller annen alternativ cup
A19: August | C19: RT-Cup | D19: RT- cup komite | E19: Fotball A-lag herrer | F19: Sekretariat, premieutdeling
A20: August | C20: RT-Cup | D20: RT- cup komite | E20: Fotball G13/J13 | F20: 4 parkeringsvakter, aktiviteter (fotballtarget ect.)
A21: August | C21: RT-Cup | D21: RT- cup komite | E21: Fotball Old Boys | F21: Rigging dagen før
A22: August | C22: RT-Cup | D22: Dommeransvarlig | E22: Fotball G14/J14 | F22: Dommere
A23: August | C23: RT-Cup | D23: RT- cup komite | E23: Fotball G12/J12 | F23: Kiosk, 1 foresatt + 2 barn (x 3 grupper á 2 timer)
A24: August | C24: RT-Cup | D24: RT- cup komite | E24: Fotball alle lag 6-11 år | F24: valgfri langpannekake, nedrigg
A25: August | C25: Aktivitetsserie | D25: Midhat Syed | E25: Barnehåndball avdeling | F25: Rigging, rydding, kiosk salg og dommere
A26: Oktober | C26: TV-aksjonen | D26: Daglig leder | E26: Fotball G8/J8 | F26: 11 bøssebærer og 1 rodeleder
A27: November | C27: Ryfylkekort/Salgsdugnad | D27: Daglig leder | E27: Alle | F27: Ett kort per medlem/salgsdugnad | G27: Daglig leder administrerer og distribuerer til hver idrett via sportslig leder
A28: Høst | C28: SMIL i Ryfylke/Yrkesmesse | D28: Sportslig utvalg fotball (ungdomsleder) | E28: Fotball juniorlag | F28: Annethvert år
A29: Høst | C29: SMIL i Ryfylke/Yrkesmesse | D29: Sportslig utvalg fotball (ungdomsleder) | F29: 10 voksne og 5 ungdommer
A30: Høst | C30: SMIL i Ryfylke/Yrkesmesse | D30: Sportslig utvalg fotball (ungdomsleder) | F30: Rigging, parkeringsvakter, rydding
A36: DUGNAD MIL (Kamparrangementer)
A37: Dato | B37: Spesifisert | C37: Type | D37: Ansvarlig | E37: Hvem - dugnadsarbeidere | F37: Hvem - dugnadsarbeidere2 | G37: Beskrivelse | H37: Kommentar
A38: 2025 | C38: Kiosk A-lagskamp | D38: Lagleder J16 | E38: Fotball J13/J14/J15 | F38: Fotball | G38: Kiosksalg, koke kaffe
A39: 2025 | B39: 45757 | C39: Kiosk A-lagskamp | E39: Fotball G16/G17 | F39: Fotball | G39: Kake/lapperøre etter kioskgjengens behov
A40: 2025 | B40: 45782 | C40: Kiosk A-lagskamp | E40: Fotball J11 | F40: Fotball | G40: Kake/lapperøre etter kioskgjengens behov
A41: 2025 | B41: 45792 | C41: Kiosk A-lagskamp | E41: Fotball G14 | F41: Fotball | G41: Kake/lapperøre etter kioskgjengens behov
A42: 2025 | B42: 45800 | C42: Kiosk A-lagskamp | E42: Fotball J10 | F42: Fotball | G42: Kake/lapperøre etter kioskgjengens behov
A43: 2025 | B43: 45821 | C43: Kiosk A-lagskamp | E43: Fotball G13 | F43: Fotball | G43: Kake/lapperøre etter kioskgjengens behov
A44: 2025 | B44: 45834 | C44: Kiosk A-lagskamp | E44: Fotball J8/J9 | F44: Fotball | G44: Kake/lapperøre etter kioskgjengens behov
A45: 2025 | B45: 45884 | C45: Kiosk A-lagskamp | E45: Fotball G12 | F45: Fotball | G45: Kake/lapperøre etter kioskgjengens behov
...

Sheet 2024
A1: DUGNAD MIL 2024
A2: Dato | B2: Spesifisert klokke/dag | C2: Type | D2: Ansvarlig | E2: Hvem - dugnadsarbeidere | F2: Beskrivelse | G2: Kommentar
A3: April | C3: Anleggsdugnad - ute | D3: Daglig leder/Steinar Hjorteland | E3: Alle utendørs (fotball + friidrett) | F3: Utendørs anlegg | G3: 2 voksne personer fra hvert lag som stiller på dugnaden
A4: April | C4: Anleggsdugnad - inne | D4: Daglig leder/Tau Campus | E4: Alle innendørs (håndball + allidrett) | F4: Tau Aktivitetshus/ I samarbeid med Tau Campus | G4: Tid kan variere, men MIL bør årlig rydde og sjekke lager etc.
A5: 45016 | C5: Strandamila | D5: Beate Langeland | E5: Strandamilkomiteen | F5: Komite sikrer planlegging og gjennomføring | G5: Komite bør være etablert og ha som mål å ha første planleggingsmøte innen utgangen av mars
A6: 1.mai | C6: Strandamila | D6: Karina Ur Holgersen / Beate Langeland | E6: Håndball (Alle) | F6: Arbeidsoppgaver både 30. april og 1. mai (rygg, rydd, kiosk, stadion) | G6: Eget skriv med detaljer
A7: 1.mai | C7: Strandamila | D7: Strandamilkomiteen | E7: Allidrett (Alle) | F7: Kakebaking | G7: Antall kommuniseres via kommiteen
A8: 1.mai | C8: Strandamila | D8: Strandamilkomiteen | E8: Friidrett (Alle) | F8: Barneløparrangører | G8: Eget skriv med detaljer
A9: 1.mai | C9: Strandamila | D9: Strandamilkomiteen | E9: Fotball (Alle) | F9: Drikkestasjoner/Løypevakter | G9: Eget skriv med detaljer
A10: 1.mai | C10: Strandamila | D10: Strandamilkomiteen | E10: Fotball SMIL Damelag | F10: Drikkestasjoner/Løypevakter | G10: Eget skriv med detaljer
A11: 1.mai | C11: Strandamila | D11: Strandamilkomiteen | E11: Fotball B-lag herrer | F11: Drikkestasjoner/Løypevakter | G11: Eget skriv med detaljer
A12: 1.mai | C12: Strandamila | D12: Strandamilkomiteen | E12: Fotball G8/J8 | F12: Drikkestasjoner/Løypevakter | G12: Eget skriv med detaljer
A13: 1.mai | C13: Strandamila | D13: Strandamilkomiteen | E13: Fotball G9/J9 | F13: Drikkestasjoner/Løypevakter | G13: Eget skriv med detaljer
A14: 1.mai | C14: Strandamila | D14: Strandamilkomiteen | E14: Fotball J15/J16 | F14: Drikkestasjoner/Løypevakter | G14: Eget skriv med detaljer
A15: 31.mars | C15: 17.mai | D15: Fjorårets komite | F15: 17. mai komité - 13 stk. fordelt på alle lag | G15: Mål å ha første planleggingsmøte innen utgangen av mars/handover fjorårets komite
A16: 30.april | C16: 17.mai | D16: 17.maikomiteen | E16: Fotball G10/G11/J10/J11 | F16: Komiteen bør ha god oversikt over planlegging og kontroll på gjenværende oppgaver | G16: Eget skriv med gudieline og sjekklister fra tidligere 17.mai arrangement
A17: 16.mai | B17: 16:30 til ferdig | C17: 17.mai | D17: 17.maikomiteen | E17: Fotball A-lag herrer | F17: Rigging, stoler, bord og andre store ting som skal på plass
A18: 16.mai | B18: 16:30 til ferdig | C18: 17.mai | D18: 17.maikomiteen | E18: Fotball Old Boys | F18: Rigge partytelt
A19: 45063 | B19: Etter arrangementet | C19: 17.mai | D19: 17.maikomiteen | E19: Fotball B-lag herrer | F19: Rydding, være med å rydde bord, stoler og annet utstyr
A20: 45063 | B20: 12:00-14:00 og 14:00-15:30 | C20: 17.mai | D20: 17.maikomiteen | E20: Fotball G17 | F20: Pølser og pizza
A21: 45063 | B21: 12:00-14:00 og 14:00-15:30 | C21: 17.mai | D21: 17.maikomiteen | E21: Fotball J15/J16 | F21: Selge is, brus og kaker
A22: 45063 | B22: 12:00-14:00 og 14:00-16:00 | C22: 17.mai | D22: 17.maikomiteen | E22: Fotball G12/J12 | F22: Glutenfritt bord og kjøkken
A23: 45063 | B23: 12:00-13:30 og 13:30-15:00 | C23: 17.mai | D23: 17.maikomiteen | E23: Fotball G13/J13 | F23: Ballonger 16. og 17. mai
A24: 20. mai | C24: Loddsalg | D24: Styret | E24: Alle | F24: 1 loddbok per medlem
A25: Juni | C25: RT-Cup | D25: Sportslig Utvalg Fotball | E25: Fotball A-lag herrer | F25: Sekretariat, rigging dagen før, premieutdeling
A26: Juni | C26: RT-Cup | D26: Sportslig Utvalg Fotball | E26: Fotball Old Boys | F26: Telt med grilling og salg
A27: Juni | C27: RT-Cup | D27: Sportslig Utvalg Fotball | E27: Fotball G12/J12 | F27: Kiosk, 1 foresatt + 2 barn (x 3 grupper á 2 timer)
A28: Juni | C28: RT-Cup | D28: Sportslig Utvalg Fotball | E28: Fotball G14/J14 | F28: Dommere
A29: Juni | C29: RT-Cup | D29: Sportslig Utvalg Fotball | E29: Fotball alle lag 6-11 år | F29: 2 lapperører (5 liter pr. røre), valgfri langpannekake
A30: 26.-29. juni | C30: Fotballskole | D30: Sportslig Utvalg Fotball | E30: Sportslig Utvalg Fotball
A31: Sommer | C31: Kongeparken cup (Håndball) | D31: Sportslig Utvalg Håndball | E31: Sportslig Utvalg Håndball | F31: Samkjører påmelding og event. overnatting, busstransport | G31: Eller annen alternativ cup
A32: Sommer | C32: Danacup | D32: Sportslig Utvalg Fotball (ungdomsledere)
A33: Sommer | C33: Lyngdalcup | D33: Sportslig Utvalg Fotball (Barneledere) | E33: Det eldste laget som deltar danner en komité
A34: Oktober | C34: TV-aksjonen | D34: Daglig leder | E34: Fotball G8/J8 | F34: 11 bøssebærer og 1 rodeleder
A35: November | C35: Ryfylkekort/Salgsdugnad | D35: Styret | E35: Daglig leder | F35: Ett kort per medlem/salgsdugnad | G35: Daglig leder administrerer og distribuerer til hver idrett via sportslig leder
A36: Høst | C36: SMIL i Ryfylke/Yrkesmesse | D36: Sportslig utvalg fotball (ungdomsleder) | E36: Fotball G17 | F36: Annethvert år
A37: Høst | C37: SMIL i Ryfylke/Yrkesmesse | D37: Sportslig utvalg fotball (ungdomsleder) | F37: 10 voksne og 5 ungdommer
A38: Høst | C38: SMIL i Ryfylke/Yrkesmesse | D38: Sportslig utvalg fotball (ungdomsleder) | F38: Rigging, parkeringsvakter, rydding
A44: DUGNAD MIL (Kamparrangementer)
A45: Dato | B45: Spesifisert | C45: Type | D45: Ansvarlig | E45: Hvem - dugnadsarbeidere | F45: Beskrivelse | G45: Kommentar
...

Sheet 2023
C1: DUGNAD MIL 2023
A3: Dato | B3: Type | C3: Hvem | D3: Kommentar | E3: Ansvar
A4: April | B4: Anleggsdugnad | C4: Alle i utendørsaktiviteter | D4: 2 voksne personer fra hvert lag som stiller på dugnaden | E4: Daglig leder/Steinar Hjorteland
A5: 45047 | B5: Strandamila | C5: Håndball (Alle) | D5: Arbeidsoppgaver både 30. april og 1. mai - Se eget skriv | E5: Karina Ur Holgersen / Beate Langeland
B6: (drikkestasjoner) | C6: Allidrett (Alle)
C7: Friidrett (Alle)
C8: Fotball
C9: SMIL Damelag
C10: MIL B-lag herrer
C11: Gutter 8
C12: Gutter 9
C13: Jenter 15/16
B14: 45063 | C14: G10/G11/J10/J11 | D14: 17. mai komité - 13 stk. fordelt på alle lag
A15: Uke 18/19
A16: 16.mai | B16: 16:30 til ferdig | C16: A-lag herrer | D16: Rigging, stoler, bord og andre store ting som skal på plass
A17: 16.mai | B17: 16:30 til ferdig | C17: Old Boys | D17: Rigge partytelt
A18: 45063 | B18: Etter arrangementet er slutt | C18: B-lag herrer | D18: Rydding, være med å rydde bord, stoler og annet utstyr
A19: 45063 | B19: 12:00-14:00 og 14:00-15:30 | C19: Gutter 17 | D19: Pølser og pizza
A20: 45063 | B20: 12:00-14:00 og 14:00-15:30 | C20: Jenter 15/16 | D20: Selge is, brus og kaker
A21: 45063 | B21: 12:00-14:00 og 14:00-16:00 | C21: G12/J12 | D21: Glutenfritt bord og kjøkken
A22: 45063 | B22: 12:00-13:30 og 13:30-15:00 | C22: G13/J13 | D22: Ballonger 16. og 17. mai
A23: 20. mai | B23: Loddsalg | C23: Alle | D23: 1 loddbok per medlem | E23: Styret
A24: Juni | B24: RT-Cup | C24: A-lag - Fotball | D24: Sekretariat, rigging dagen før, premieutdeling
C25: Old Boys - Fotball | D25: Telt med grilling og salg
C26: J/G 12 - Fotball | D26: Kiosk, 1 foresatt + 2 barn (x 3 grupper á 2 timer)
C27: J/G 13/14 - Fotball | D27: Dommere
C28: Alle lag 6-11 år - Fotball | D28: 2 lapperører (5 liter pr. røre), valgfri langpannekake
A29: 26.-29. juni | B29: Fotballskole | E29: Arild Eie
A33: Danacup | E33: Sportslig utvalg fotball (ungdomsleder)
A34: Lyngdalcup | C34: De eldste laget som deltar danner en komité | E34: Sportslig utvalg fotball
A35: Oktober | B35: TV-aksjonen | C35: Gutter/jenter 8 år fotball | D35: 11 bøssebærer og 1 rodeleder | E35: Daglig leder
A36: November | B36: Ryfylkekort | C36: Daglig leder deler ut antall kort til hver idrett via sportslig leder. | D36: Ett kort per medlem | E36: Daglig leder
A37: Høst | B37: SMIL i Ryfylke/ | C37: Gutter 17 | D37: Annethvert år | E37: Sportslig utvalg fotball (ungdomsleder)
B38: Yrkesmesse Tau Aktivitetshus | D38: 10 voksne og 5 ungdommer
D39: Rigging, parkeringsvakter, rydding
C45: Barnehåndball avdeling
C66: DUGNAD MIL (A-LAGSKAMPER)
A67: Dato | B67: Type | C67: Hvem | D67: Kommentar | E67: Ansvar
A68: 2023 | B68: Kiosk A-lagskamp | C68: J15 - Fotball | D68: Kiosksalg, koke kaffe | E68: Lagleder J15
C69: G2016 | D69: Kake/lapperøre etter kioskgjengens behov
...

Sheet Lagoversikt_dugnadsliste
A1: Tabllen nedenfor benyttes som valg til hvem som settes opp som ansvarlige I dugnadsoversikten
A2: Avsjekk hvert år på om alle gruppene og lagene eksisterer, skal noen legges til?/mindre kull som krever justering på ansvarlige for dugnadselementer?
A5: Grønn = bekreftet at eksisterer og skal med på dugnadslista | B5: Sist oppdatert:
A6: Rød = bekreftet at ikke eksisterer og må dermed ut av årets dugnadsliste | B6: 45273
A9: Ansvarlige grupper lag/tilgjngengelig | B9: Kommentar angående lag/gruppe
A10: Alle | D10: TYPE
A11: Alle utendørs (fotball) | D11: Anleggsdugnad - ute
A12: Alle innendørs (håndball + volleyball + allidrett) | D12: Anleggsdugnad - inne
A13: Håndball (Alle) | D13: Strandamila
A14: Allidrett (Alle) | D14: 17.mai
A15: Badminton | D15: Loddsalg
A16: Innebandy (Alle) | D16: RT-Cup
A17: Fotball (Alle) | D17: Fotballskole
A18: Fotball A-lag herrer | D18: Kongeparken cup (Håndball)
A19: Fotball Damelag | D19: Danacup
A20: Fotball B-lag herrer | D20: Lyngdalcup
A21: Fotball Old Boys | D21: TV-aksjonen
... A26: Fotball J14/15 | D26: Kiosk A lag kvinner
A27: Fotball G14/J14
A28: Fotball G13/J13/G14/J14
A29: Fotball J12/J13
A30: Fotball G11
A31: Fotball G13/J13
A32: Fotball J13/J14/J15
A33: Fotball G15
A34: Fotball G14
A35: Fotball G13
A36: Fotball G12
A37: Fotball J11
A38: Fotball G10/G11/J10/J11
... A51: Håndball mini 6-8år
A52: Håndball G9/J9 | B52: aldersklassen referer til alderslaget slik det het per 23/24-sesongen (består av barn f2014/2015)
A53: Håndball G11/J11 | B53: aldersklassen referer til alderslaget slik det het per 23/24-sesongen (består av barn f2012/2013)
A54: Det eldste laget som deltar danner en komité
A55: Styret
A56: Daglig leder
A57: Sportslig Utvalg Håndball | B57: Styret ansvarlig for å sikre at komiteen eksisterer
A58: Sportslig Utvalg Fotball | B58: Styret ansvarlig for å sikre at komiteen eksisterer
A59: Barnehåndball avdeling | B59: Håndball
A60: Strandamilkomiteen | B60: Styret ansvarlig for å sikre at komiteen eksisterer
...

Sheet Antall dugnader sjekk
A1: Antall ganger en gruppe/et lag er listet til å ha dugnadsplikter:
A2: =Lagoversikt_dugnadsliste!A10 -> Alle | B2: =COUNTIF('2024'!E:E,'Antall dugnader sjekk'!A2) -> 1
A3: =Lagoversikt_dugnadsliste!A11 -> Alle utendørs (fotball) | B3: 1
A4: Alle innendørs (håndball + volleyball) | B4: =COUNTIF('2024'!E:E,'Antall dugnader sjekk'!A4) -> 0
A5: =Lagoversikt_dugnadsliste!A13 -> Håndball (Alle) | B5: =COUNTIF('2024'!E:E,'Antall dugnader sjekk'!A5) -> 2
A6: =Lagoversikt_dugnadsliste!A14 -> Allidrett (Alle) | B6: =COUNTIF('2024'!E:E,'Antall dugnader sjekk'!A6) -> 1
A7: Mil Håndball senior | B7: =COUNTIF('2024'!E:E,'Antall dugnader sjekk'!A8) -> 0
A8: Volleyball | B8: =COUNTIF('2024'!E:E,'Antall dugnader sjekk'!A9) -> 0
A9: =Lagoversikt_dugnadsliste!A16 -> Innebandy (Alle) | B9: =COUNTIF('2024'!E:E,'Antall dugnader sjekk'!A10) -> 1
A10: =Lagoversikt_dugnadsliste!A17 -> Fotball (Alle) | B10: =COUNTIF('2024'!E:E,'Antall dugnader sjekk'!A11) -> 2
A11: =Lagoversikt_dugnadsliste!A18 -> Fotball A-lag herrer | B11: =COUNTIF('2024'!E:E,'Antall dugnader sjekk'!A12) -> 0
A12: =Lagoversikt_dugnadsliste!A19 -> Fotball Damelag | B12: =COUNTIF('2024'!E:E,'Antall dugnader sjekk'!A13) -> 2
A13: =Lagoversikt_dugnadsliste!A20 -> Fotball B-lag herrer | B13: =COUNTIF('2024'!E:E,'Antall dugnader sjekk'!A14) -> 2
A14: =Lagoversikt_dugnadsliste!A21 -> Fotball Old Boys | B14: =COUNTIF('2024'!E:E,'Antall dugnader sjekk'!A15) -> 0
A15: =Lagoversikt_dugnadsliste!A22 -> Fotball juniorlag | B15: =COUNTIF('2024'!E:E,'Antall dugnader sjekk'!A16) -> 1
A16: =Lagoversikt_dugnadsliste!A24 -> Fotball J17 | B16: =COUNTIF('2024'!E:E,'Antall dugnader sjekk'!A17) -> 0
A17: Fotball J16/J17 | B17: =COUNTIF('2024'!E:E,'Antall dugnader sjekk'!A18) -> 0
A18: =Lagoversikt_dugnadsliste!A28 -> Fotball G13/J13/G14/J14 | B18: =COUNTIF('2024'!E:E,'Antall dugnader sjekk'!A19) -> 2
A19: =Lagoversikt_dugnadsliste!A31 -> Fotball G13/J13 | B19: =COUNTIF('2024'!E:E,'Antall dugnader sjekk'!A20) -> 0
A20: =Lagoversikt_dugnadsliste!A36 -> Fotball G12 | B20: 0
A21: =Lagoversikt_dugnadsliste!A38 -> Fotball G10/G11/J10/J11 | B21: =COUNTIF('2024'!E:E,'Antall dugnader sjekk'!A22) -> 3
A22: =Lagoversikt_dugnadsliste!A43 -> Fotball G9/J9 | B22: 3
A23: =Lagoversikt_dugnadsliste!A45 -> Fotball G8/J8 | B23: 3
A24: =Lagoversikt_dugnadsliste!A46 -> Fotball G7/J7 | B24: =COUNTIF('2024'!E:E,'Antall dugnader sjekk'!A25) -> 1
A25: =Lagoversikt_dugnadsliste!A48 -> Fotball alle lag 6-11 år | B25: 0
A26: =Lagoversikt_dugnadsliste!A51 -> Håndball mini 6-8år | B26: =COUNTIF('2024'!E:E,'Antall dugnader sjekk'!A27) -> 0
A27: =Lagoversikt_dugnadsliste!A52 -> Håndball G9/J9 | B27: =COUNTIF('2024'!E:E,'Antall dugnader sjekk'!A28) -> 0
A28: =Lagoversikt_dugnadsliste!A53 -> Håndball G11/J11 | B28: =COUNTIF('2024'!E:E,'Antall dugnader sjekk'!A29) -> 1
A29: =Lagoversikt_dugnadsliste!A54 -> Det eldste laget som deltar danner en komité | B29: =COUNTIF('2024'!E:E,'Antall dugnader sjekk'!A30) -> 0
A30: =Lagoversikt_dugnadsliste!A55 -> Styret | B30: 3
A31: =Lagoversikt_dugnadsliste!A56 -> Daglig leder | B31: =COUNTIF('2024'!E:E,'Antall dugnader sjekk'!A32) -> 1
A32: =Lagoversikt_dugnadsliste!A57 -> Sportslig Utvalg Håndball | B32: =COUNTIF('2024'!E:E,'Antall dugnader sjekk'!A33) -> 1
A33: =Lagoversikt_dugnadsliste!A58 -> Sportslig Utvalg Fotball | B33: =COUNTIF('2024'!E:E,'Antall dugnader sjekk'!A34) -> 1
A34: =Lagoversikt_dugnadsliste!A60 -> Strandamilkomiteen | B34: =COUNTIF('2024'!E:E,'Antall dugnader sjekk'!A35) -> 0
A35: =Lagoversikt_dugnadsliste!A61 -> Barnehåndball avdeling | B35: =COUNTIF('2024'!E:E,'Antall dugnader sjekk'!A36) -> 0
A36: =Lagoversikt_dugnadsliste!A62 -> 0 | B36: =COUNTIF('2024'!E:E,'Antall dugnader sjekk'!A37) -> 0
A37: =Lagoversikt_dugnadsliste!A63 -> 0 | B37: =COUNTIF('2024'!E:E,'Antall dugnader sjekk'!A38) -> 0
A38: =Lagoversikt_dugnadsliste!A64 -> 0 | B38: =COUNTIF('2024'!E:E,'Antall dugnader sjekk'!A39) -> 0
A39: =Lagoversikt_dugnadsliste!A65 -> 0 | B39: =COUNTIF('2024'!E:E,'Antall dugnader sjekk'!A40) -> 0
A40: =Lagoversikt_dugnadsliste!A66 -> 0 | B40: =COUNTIF('2024'!E:E,'Antall dugnader sjekk'!A41) -> 0
...

Sheet Ark2
A1: Lagnavn | B1: 2025 | C1: 2026 | D1: 2027 | E1: 2028 | F1: 2029 | G1: 2030
A2: G/J 6 | B2: G/J 2019 | C2: G/J 2020 | D2: G/J 2021 | E2: G/J 2022 | F2: G/J 2023 | G2: G/J 2024
A3: G/J 7 | B3: G/J 2018 | C3: G/J 2019 | D3: G/J 2020 | E3: G/J 2021 | F3: G/J 2022 | G3: G/J 2023
A4: G/J 8 | B4: G/J 2017 | C4: G/J 2018 | D4: G/J 2019 | E4: G/J 2020 | F4: G/J 2021 | G4: G/J 2022
A5: G/J 9 | B5: G/J 2016 | C5: G/J 2017 | D5: G/J 2018 | E5: G/J 2019 | F5: G/J 2020 | G5: G/J 2021
A6: G/J 10 | B6: G/J 2015 | C6: G/J 2016 | D6: G/J 2017 | E6: G/J 2018 | F6: G/J 2019 | G6: G/J 2020
A7: G/J 11 | B7: G/J 2014 | C7: G/J 2015 | D7: G/J 2016 | E7: G/J 2017 | F7: G/J 2018 | G7: G/J 2019
A8: G/J 12 | B8: G/J 2013 | C8: G/J 2014 | D8: G/J 2015 | E8: G/J 2016 | F8: G/J 2017 | G8: G/J 2018
A9: G/J 13 | B9: G/J 2012 | C9: G/J 2013 | D9: G/J 2014 | E9: G/J 2015 | F9: G/J 2016 | G9: G/J 2017
A10: G/J 14 | B10: G/J 2011 | C10: G/J 2012 | D10: G/J 2013 | E10: G/J 2014 | F10: G/J 2015 | G10: G/J 2016
A11: G/J 15 | B11: G/J 2010 | C11: G/J 2011 | D11: G/J 2012 | E11: G/J 2013 | F11: G/J 2014 | G11: G/J 2015
A12: G/J 16 | B12: G/J 2009 | C12: G/J 2010 | D12: G/J 2011 | E12: G/J 2012 | F12: G/J 2013 | G12: G/J 2014
A13: G/J 17 | B13: G/J 2008 | C13: G/J 2009 | D13: G/J 2010 | E13: G/J 2011 | F13: G/J 2012 | G13: G/J 2013
